BEGIN:VCALENDAR
VERSION:2.0
PRODID:icalendar-ruby
CALSCALE:GREGORIAN
METHOD:PUBLISH
BEGIN:VEVENT
DTSTAMP:20260425T182125Z
UID:8-400266@thegatecbc.com
DTSTART:20261105T030000Z
DTEND:20261105T043000Z
CLASS:PUBLIC
CREATED:20260425T101328
DESCRIPTION:Healing Steps\, a Christ-centered healing ministry\, meets at T
 he Gate on Wednesday evenings.  For more information\, email Healing Step
 s here.
LAST-MODIFIED:20260425T101328
LOCATION:The Gate
SUMMARY:Healing Steps
URL;VALUE=URI:https://www.thegatecbc.com/events/healing-steps/2026-11-04
ATTACH;FILENAME=HS-2.png;FMTTYPE=image/png:https://dq5pwpg1q8ru0.cloudfront
 .net/2024/02/07/19/52/15/3b22cbd6-30b4-4cb6-912c-8f68a1c1ebfb/HS-2.png
END:VEVENT
END:VCALENDAR
